BEGIN:VCALENDAR
VERSION:2.0
PRODID:-//AGBS - ECPv6.15.20//NONSGML v1.0//EN
CALSCALE:GREGORIAN
METHOD:PUBLISH
X-WR-CALNAME:AGBS
X-ORIGINAL-URL:https://www.bremer-schweiz.de
X-WR-CALDESC:Veranstaltungen für AGBS
REFRESH-INTERVAL;VALUE=DURATION:PT1H
X-Robots-Tag:noindex
X-PUBLISHED-TTL:PT1H
BEGIN:VTIMEZONE
TZID:Europe/Berlin
BEGIN:DAYLIGHT
TZOFFSETFROM:+0100
TZOFFSETTO:+0200
TZNAME:CEST
DTSTART:20230326T010000
END:DAYLIGHT
BEGIN:STANDARD
TZOFFSETFROM:+0200
TZOFFSETTO:+0100
TZNAME:CET
DTSTART:20231029T010000
END:STANDARD
BEGIN:DAYLIGHT
TZOFFSETFROM:+0100
TZOFFSETTO:+0200
TZNAME:CEST
DTSTART:20240331T010000
END:DAYLIGHT
BEGIN:STANDARD
TZOFFSETFROM:+0200
TZOFFSETTO:+0100
TZNAME:CET
DTSTART:20241027T010000
END:STANDARD
BEGIN:DAYLIGHT
TZOFFSETFROM:+0100
TZOFFSETTO:+0200
TZNAME:CEST
DTSTART:20250330T010000
END:DAYLIGHT
BEGIN:STANDARD
TZOFFSETFROM:+0200
TZOFFSETTO:+0100
TZNAME:CET
DTSTART:20251026T010000
END:STANDARD
END:VTIMEZONE
BEGIN:VEVENT
DTSTART;TZID=Europe/Berlin:20240601T133000
DTEND;TZID=Europe/Berlin:20240601T160000
DTSTAMP:20260426T040247
CREATED:20240501T121504Z
LAST-MODIFIED:20240501T182321Z
UID:6951-1717248600-1717257600@www.bremer-schweiz.de
SUMMARY:Wanderung zum Weißen Moor
DESCRIPTION:Almuth von Groote führt uns auf einer 5 km langen Rundwanderung zum wiedervernässten Weißen Moor bei Meyenburg\, eine Ausgleichsmaßnahme zum angrenzenden Windpark Klingenberg. Dirk Riebensahm von der Energiequelle GmbH wird uns die Maßnahme vorstellen.\nBitte melden Sie sich an bis zum 29. Mai bei Susanne Wagner\, susanne-agbs@freenet.de\, 0421 62 16 38. Der Treffpunkt wird bei Anmeldung bekannt gegeben.
URL:https://www.bremer-schweiz.de/event/wanderung-im-weissen-moor/
END:VEVENT
END:VCALENDAR