BEGIN:VCALENDAR
VERSION:2.0
PRODID:-//AGBS - ECPv6.15.20//NONSGML v1.0//EN
CALSCALE:GREGORIAN
METHOD:PUBLISH
X-WR-CALNAME:AGBS
X-ORIGINAL-URL:https://www.bremer-schweiz.de
X-WR-CALDESC:Veranstaltungen für AGBS
REFRESH-INTERVAL;VALUE=DURATION:PT1H
X-Robots-Tag:noindex
X-PUBLISHED-TTL:PT1H
BEGIN:VTIMEZONE
TZID:Europe/Berlin
BEGIN:DAYLIGHT
TZOFFSETFROM:+0100
TZOFFSETTO:+0200
TZNAME:CEST
DTSTART:20240331T010000
END:DAYLIGHT
BEGIN:STANDARD
TZOFFSETFROM:+0200
TZOFFSETTO:+0100
TZNAME:CET
DTSTART:20241027T010000
END:STANDARD
BEGIN:DAYLIGHT
TZOFFSETFROM:+0100
TZOFFSETTO:+0200
TZNAME:CEST
DTSTART:20250330T010000
END:DAYLIGHT
BEGIN:STANDARD
TZOFFSETFROM:+0200
TZOFFSETTO:+0100
TZNAME:CET
DTSTART:20251026T010000
END:STANDARD
BEGIN:DAYLIGHT
TZOFFSETFROM:+0100
TZOFFSETTO:+0200
TZNAME:CEST
DTSTART:20260329T010000
END:DAYLIGHT
BEGIN:STANDARD
TZOFFSETFROM:+0200
TZOFFSETTO:+0100
TZNAME:CET
DTSTART:20261025T010000
END:STANDARD
END:VTIMEZONE
BEGIN:VEVENT
DTSTART;VALUE=DATE:20250419
DTEND;VALUE=DATE:20250602
DTSTAMP:20260421T102456
CREATED:20250116T163530Z
LAST-MODIFIED:20250413T130514Z
UID:7030-1745020800-1748822399@www.bremer-schweiz.de
SUMMARY:Fotoausstellung „Die Bremer Schweiz im Sucher“
DESCRIPTION:Aus den über 100 eingereichten Bildern im Rahmen des ausgerufenen Fotowettbewerbs präsentieren wir die 27 schönsten Impressionen aus der Bremer Schweiz im Kunstkeller des Schlosses Schönebeck.\nÖffnungszeiten und Eintritt unter https://museum-schloss-schoenebeck.de
URL:https://www.bremer-schweiz.de/event/praesentation-der-schoensten-bilder-des-fotowettbewerbs/
END:VEVENT
BEGIN:VEVENT
DTSTART;VALUE=DATE:20250426
DTEND;VALUE=DATE:20250609
DTSTAMP:20260421T102456
CREATED:20250116T163820Z
LAST-MODIFIED:20250413T130611Z
UID:7033-1745625600-1749427199@www.bremer-schweiz.de
SUMMARY:Ausstellung „Ein Streifzug durch die Bremer Schweiz“
DESCRIPTION:Die Ausstellung beleuchtet die vielfältigen ökologischen und historischen Facetten der Bremer Schweiz in Bildern und Texten\, wie beispielsweise die prägende Landsitzkultur aus dem 19. Jahrhundert\, das reizvolle Tal der Schönebecker Aue\, die geologische Besonderheit der Geest sowie die verschiedenen Naturlebensräume unserer Region. Die Ausstellung zeigt nicht nur die Vielseitigkeit der Bremer Schweiz\, sondern auch der Themenfelder unseres Engagements in den fünf Jahrzehnten des Vereines. Zu sehen ist die Ausstellung im Erdgeschoss des Schlosses Schönebeck\nÖffnungszeiten und Eintritt unter https://museum-schloss-schoenebeck.de
URL:https://www.bremer-schweiz.de/event/ausstellung-ein-streifzug-durch-die-bremer-schweiz/
END:VEVENT
BEGIN:VEVENT
DTSTART;TZID=Europe/Berlin:20250426T150000
DTEND;TZID=Europe/Berlin:20250426T170000
DTSTAMP:20260421T102456
CREATED:20250413T132636Z
LAST-MODIFIED:20250413T132636Z
UID:7089-1745679600-1745686800@www.bremer-schweiz.de
SUMMARY:Feierliche Eröffnung der Ausstellung „Ein Streifzug durch die Bremer Schweiz“
DESCRIPTION:Einführung in die Ausstellung und individuelles Betrachten\, gemeinsamer Spaziergang rund um das Schloss Schönebeck zu Wirkungsstätten der Aktionsgemeinschaft Bremer Schweiz. Der Eintritt in das Schloss ist für diese Veranstaltung frei. Bitte Anmeldung unter susanne-agbs@freenet.de \nSchloss Schönebeck
URL:https://www.bremer-schweiz.de/event/feierliche-eroeffnung-der-ausstellung-ein-streifzug-durch-die-bremer-schweiz/
END:VEVENT
END:VCALENDAR