BEGIN:VCALENDAR
VERSION:2.0
PRODID:-//AGBS - ECPv6.15.20//NONSGML v1.0//EN
CALSCALE:GREGORIAN
METHOD:PUBLISH
X-WR-CALNAME:AGBS
X-ORIGINAL-URL:https://www.bremer-schweiz.de
X-WR-CALDESC:Veranstaltungen für AGBS
REFRESH-INTERVAL;VALUE=DURATION:PT1H
X-Robots-Tag:noindex
X-PUBLISHED-TTL:PT1H
BEGIN:VTIMEZONE
TZID:Europe/Berlin
BEGIN:DAYLIGHT
TZOFFSETFROM:+0100
TZOFFSETTO:+0200
TZNAME:CEST
DTSTART:20240331T010000
END:DAYLIGHT
BEGIN:STANDARD
TZOFFSETFROM:+0200
TZOFFSETTO:+0100
TZNAME:CET
DTSTART:20241027T010000
END:STANDARD
BEGIN:DAYLIGHT
TZOFFSETFROM:+0100
TZOFFSETTO:+0200
TZNAME:CEST
DTSTART:20250330T010000
END:DAYLIGHT
BEGIN:STANDARD
TZOFFSETFROM:+0200
TZOFFSETTO:+0100
TZNAME:CET
DTSTART:20251026T010000
END:STANDARD
BEGIN:DAYLIGHT
TZOFFSETFROM:+0100
TZOFFSETTO:+0200
TZNAME:CEST
DTSTART:20260329T010000
END:DAYLIGHT
BEGIN:STANDARD
TZOFFSETFROM:+0200
TZOFFSETTO:+0100
TZNAME:CET
DTSTART:20261025T010000
END:STANDARD
END:VTIMEZONE
BEGIN:VEVENT
DTSTART;TZID=Europe/Berlin:20250614T140000
DTEND;TZID=Europe/Berlin:20250614T160000
DTSTAMP:20260422T153950
CREATED:20250413T132917Z
LAST-MODIFIED:20250414T194852Z
UID:7095-1749909600-1749916800@www.bremer-schweiz.de
SUMMARY:Exkursion zum „Bienenglück“
DESCRIPTION:In dem Gemeinschaft von Landwirtschaft und Naturschutz in Ganderkesee wurden Blühflächen mit verschiedenen Saatgutmischungen über mehrere Jahre angelegt. Ein intensives Monitoring ist durch Dr. Klaus Handke erfolgt\, der uns die beeindruckenden Erfolge des Projektes vor Ort vorstellen wird. Bitte Anmeldung unter sabinemarquardt@posteo.de
URL:https://www.bremer-schweiz.de/event/exkursion-zum-bienenglueck/
END:VEVENT
END:VCALENDAR