BEGIN:VCALENDAR
VERSION:2.0
PRODID:-//AGBS - ECPv6.15.20//NONSGML v1.0//EN
CALSCALE:GREGORIAN
METHOD:PUBLISH
X-WR-CALNAME:AGBS
X-ORIGINAL-URL:https://www.bremer-schweiz.de
X-WR-CALDESC:Veranstaltungen für AGBS
REFRESH-INTERVAL;VALUE=DURATION:PT1H
X-Robots-Tag:noindex
X-PUBLISHED-TTL:PT1H
BEGIN:VTIMEZONE
TZID:Europe/Berlin
BEGIN:DAYLIGHT
TZOFFSETFROM:+0100
TZOFFSETTO:+0200
TZNAME:CEST
DTSTART:20240331T010000
END:DAYLIGHT
BEGIN:STANDARD
TZOFFSETFROM:+0200
TZOFFSETTO:+0100
TZNAME:CET
DTSTART:20241027T010000
END:STANDARD
BEGIN:DAYLIGHT
TZOFFSETFROM:+0100
TZOFFSETTO:+0200
TZNAME:CEST
DTSTART:20250330T010000
END:DAYLIGHT
BEGIN:STANDARD
TZOFFSETFROM:+0200
TZOFFSETTO:+0100
TZNAME:CET
DTSTART:20251026T010000
END:STANDARD
BEGIN:DAYLIGHT
TZOFFSETFROM:+0100
TZOFFSETTO:+0200
TZNAME:CEST
DTSTART:20260329T010000
END:DAYLIGHT
BEGIN:STANDARD
TZOFFSETFROM:+0200
TZOFFSETTO:+0100
TZNAME:CET
DTSTART:20261025T010000
END:STANDARD
END:VTIMEZONE
BEGIN:VEVENT
DTSTART;TZID=Europe/Berlin:20250615T103000
DTEND;TZID=Europe/Berlin:20250615T130000
DTSTAMP:20260422T153904
CREATED:20250116T163914Z
LAST-MODIFIED:20250116T163914Z
UID:7035-1749983400-1749992400@www.bremer-schweiz.de
SUMMARY:Führung durch das Schönebecker Auetal
DESCRIPTION:Führung durch das Schönebecker Auetal mit Christian Schiff (AGBS) und Ulrich Vey (Biolandhof Vey) vorbei an Wohnhaus und Wirkungsstätte der Worpsweder Maler Fritz und Hermine Overbeck. Unterwegs werden Flora und Fauna\, durchgeführte Maßnahmen zur Verbesserung des Lebensraums Schönebecker Auetal aber auch weiterhin bestehende Problematiken angesprochen. Auf dem Weg wird das vereinseigene Grundstück „Overbecks Wiese“ passiert. Anschließend besteht eine Einkehrmöglichkeit in Bruns Garten in Leuchtenburg. Anmeldung und nähere Infos bei Christian Schiff\, 0421 66 65 88.
URL:https://www.bremer-schweiz.de/event/fuehrung-durch-das-schoenebecker-auetal-2/
END:VEVENT
END:VCALENDAR