BEGIN:VCALENDAR
VERSION:2.0
PRODID:-//AGBS - ECPv6.15.20//NONSGML v1.0//EN
CALSCALE:GREGORIAN
METHOD:PUBLISH
X-ORIGINAL-URL:https://www.bremer-schweiz.de
X-WR-CALDESC:Veranstaltungen für AGBS
REFRESH-INTERVAL;VALUE=DURATION:PT1H
X-Robots-Tag:noindex
X-PUBLISHED-TTL:PT1H
BEGIN:VTIMEZONE
TZID:Europe/Berlin
BEGIN:DAYLIGHT
TZOFFSETFROM:+0100
TZOFFSETTO:+0200
TZNAME:CEST
DTSTART:20240331T010000
END:DAYLIGHT
BEGIN:STANDARD
TZOFFSETFROM:+0200
TZOFFSETTO:+0100
TZNAME:CET
DTSTART:20241027T010000
END:STANDARD
BEGIN:DAYLIGHT
TZOFFSETFROM:+0100
TZOFFSETTO:+0200
TZNAME:CEST
DTSTART:20250330T010000
END:DAYLIGHT
BEGIN:STANDARD
TZOFFSETFROM:+0200
TZOFFSETTO:+0100
TZNAME:CET
DTSTART:20251026T010000
END:STANDARD
BEGIN:DAYLIGHT
TZOFFSETFROM:+0100
TZOFFSETTO:+0200
TZNAME:CEST
DTSTART:20260329T010000
END:DAYLIGHT
BEGIN:STANDARD
TZOFFSETFROM:+0200
TZOFFSETTO:+0100
TZNAME:CET
DTSTART:20261025T010000
END:STANDARD
END:VTIMEZONE
BEGIN:VEVENT
DTSTART;TZID=Europe/Berlin:20251025T170000
DTEND;TZID=Europe/Berlin:20251025T220000
DTSTAMP:20260422T165239
CREATED:20250929T163814Z
LAST-MODIFIED:20251023T174629Z
UID:7126-1761411600-1761429600@www.bremer-schweiz.de
SUMMARY:Kranichexkursion ->ABGESAGT!
DESCRIPTION:Im Oktober rasten die durchziehenden Kraniche in unserer Region. Ein besonderes Naturerlebnis ist dabei der abendliche Flug der Vögel zu ihren Schlafplätzen in den wiedervernässten Moorflächen\, wozu wir Sie einladen. Gemeinsam werden wir bei Sonnenuntergang am Rande des Günnemoors den beeindruckenden Einflug der großen Vogelschwärme erwarten. Frank Bachmann wird uns vor Ort fachkundig die Lebensweise und Lebensraumansprüche der majestätischen Vögel erläutern. Zur besseren Beobachtung steht ein stark vergrößerndes Spektiv bereit\, aber bringen Sie gerne auch Ihr eigenes Fernglas mit. Neben wettergerechter Kleidung sind unbedingt feste Schuhe erforderlich für einen rund 500m langen Fußmarsch auf einem unbefestigten\, unebenen Weg. \nTermin: 25. Oktober 2025\, 17.00 Uhr \nTreffpunkt: Schotterparkplatz in der Kurve Am Günnemoor/Bornreiher Str. in Vollersode (Fahrgemeinschaften können organisiert werden) \nKosten: kostenfrei \nAnmeldung erforderlich bis zum 22.10.2025 unter: susanne-agbs@freenet.de \nBei Regen\, Sturm oder Nebel fällt die Veranstaltung aus
URL:https://www.bremer-schweiz.de/event/kranichexkursion/
END:VEVENT
END:VCALENDAR