BEGIN:VCALENDAR
VERSION:2.0
PRODID:-//AGBS - ECPv6.15.20//NONSGML v1.0//EN
CALSCALE:GREGORIAN
METHOD:PUBLISH
X-ORIGINAL-URL:https://www.bremer-schweiz.de
X-WR-CALDESC:Veranstaltungen für AGBS
REFRESH-INTERVAL;VALUE=DURATION:PT1H
X-Robots-Tag:noindex
X-PUBLISHED-TTL:PT1H
BEGIN:VTIMEZONE
TZID:Europe/Berlin
BEGIN:DAYLIGHT
TZOFFSETFROM:+0100
TZOFFSETTO:+0200
TZNAME:CEST
DTSTART:20240331T010000
END:DAYLIGHT
BEGIN:STANDARD
TZOFFSETFROM:+0200
TZOFFSETTO:+0100
TZNAME:CET
DTSTART:20241027T010000
END:STANDARD
BEGIN:DAYLIGHT
TZOFFSETFROM:+0100
TZOFFSETTO:+0200
TZNAME:CEST
DTSTART:20250330T010000
END:DAYLIGHT
BEGIN:STANDARD
TZOFFSETFROM:+0200
TZOFFSETTO:+0100
TZNAME:CET
DTSTART:20251026T010000
END:STANDARD
BEGIN:DAYLIGHT
TZOFFSETFROM:+0100
TZOFFSETTO:+0200
TZNAME:CEST
DTSTART:20260329T010000
END:DAYLIGHT
BEGIN:STANDARD
TZOFFSETFROM:+0200
TZOFFSETTO:+0100
TZNAME:CET
DTSTART:20261025T010000
END:STANDARD
END:VTIMEZONE
BEGIN:VEVENT
DTSTART;TZID=Europe/Berlin:20251115T150000
DTEND;TZID=Europe/Berlin:20251115T170000
DTSTAMP:20260422T180441
CREATED:20250929T163948Z
LAST-MODIFIED:20250929T163948Z
UID:7128-1763218800-1763226000@www.bremer-schweiz.de
SUMMARY:Koffie op platt
DESCRIPTION:Im November wollen wir die vor Corona schon zur Tradition gewordenen Veranstaltung „Frohstück op platt“ als „Koffie op platt“ wieder zum Leben erwecken\, denn: „Is mol wedder Tied för’n Klönschnack“. \nIm stimmungsvollen\, kommodigen Ambiente des Hofmeierhauses der Villa Lamotte in Schönebeck in den Räumen der Ökologiestation soll bei leckerem Koken mit Schlackermaschü und heißen und kalten Getränken ein abwechslungsreiches Programm in Plattdütsch für gute Unterhaltung im November-Schietweer sorgen. \nTermin: 15. November 2025\, 15.00 Uhr \nOrt: Ökologiestation\, Am Gütpohl 11\, 29757 Bremen \nKosten: um eine Spende an die Aktionsgemeinschaft Bremer Schweiz wird gebeten \nAnmeldung erforderlich bis zum 10.11.2025 unter: sabine.beth@nord-com.net oder 0421 959 84 59
URL:https://www.bremer-schweiz.de/event/koffie-op-platt/
END:VEVENT
END:VCALENDAR